BEGIN:VCALENDAR
PRODID:-//hacksw/handcal//NONSGML v1.0//EN
VERSION:2.0
METHOD:PUBLISH
BEGIN:VEVENT
DTSTART:20260512T153000Z
DTEND:20260512T173000Z
LOCATION:The Fort, 8 Fort St., Springfield
UID:2859520260512T153000ZC.H.E.I.F.S. Presents Untapped Equity
DTSTAMP:20260421T142342Z
DESCRIPTION:\nIntroducing Cornerstone’s Home Equity Insurance / \n \nInvestment Funding Solutions \n \n(“CHEIFS”).\n \n \n \nA Must-Attend Event\n \nCornerstone Financing offers a transformational financial solution that provides homeowners a streamlined path to accessing their largest asset – home equity – for purchasing annuities, life insurance, long-term care, investments, and other financial planning options.\n \nUnlike many financing options, CHEIFS does not use debt to access home equity. Instead, we only share a percentage of the home’s future value.\n \nCo Founder Daniel Anderson will take us through an interesting and unique opportunity the CHEIFS program provides.\n \n \n \nAbout the Speaker\n \nDaniel P. Anderson-Founder, Chairman and Managing Member\n \nDaniel’s visionary approach to creating seamless, personalized wholesale insurance execution has led to the 2006 launch of Madison Brokerage, later sold to Acrisure in 2019.  He founded the Insurance Exchange of America in 1987, which he successfully sold to BISYS (Now CRUMP) in 2001, where he thrived as EVP of National Sales, spearheading acquisitions.  A dynamic co-founder of Cornerstone/CHIEFS, Daniel P Anderson is a former LIBRA board member and has served on 30+ prestigious insurance carrier advisory boards.\n \n \n \n  \nClick below to Register. \n \n\n Visit our Web Site:   [https://www.estateplan-hc.org](http://www.estateplan-hc.org)\n Membership Application or Change of Address: [https://www.estateplan-hc.org/members/application](http://www.estateplan-hc.org/members/application)\n NAEPC Web site: [https://www.naepc.org](http://www.naepc.org)\n
SUMMARY:C.H.E.I.F.S. Presents Untapped Equity - Estate Planning Council of Hampden County 
PRIORITY:3
BEGIN:VALARM
TRIGGER:PT18H
ACTION:DISPLAY
DESCRIPTION:Reminder
END:VALARM
END:VEVENT
END:VCALENDAR